BEGIN:VCALENDAR
VERSION:2.0
PRODID:icalendar-ruby
CALSCALE:GREGORIAN
METHOD:PUBLISH
BEGIN:VEVENT
DTSTAMP:20260419T210913Z
UID:17-490827@hhgcc.org
DTSTART:20260909T223000Z
DTEND:20260910T000000Z
CLASS:PUBLIC
CREATED:20260419T161000
DESCRIPTION:
LAST-MODIFIED:20260419T161000
LOCATION:5001 Fishburg Road\, Huber Heights\, OH 45424
SUMMARY:Youth Group
URL;VALUE=URI:https://huberheightsgrace.com/events/youth-group/2026-09-09
ATTACH;FILENAME=544953148_10228762170416068_8258736082062207868_n.jpg;FMTTY
 PE=image/jpeg:https://dq5pwpg1q8ru0.cloudfront.net/2025/09/12/17/08/05/222
 76de1-a7e9-4d61-9a56-be696f2bc1a6/544953148_10228762170416068_825873608206
 2207868_n.jpg
END:VEVENT
END:VCALENDAR
