BEGIN:VCALENDAR
VERSION:2.0
PRODID:icalendar-ruby
CALSCALE:GREGORIAN
METHOD:PUBLISH
BEGIN:VEVENT
DTSTAMP:20260420T063834Z
UID:26-491847@hhgcc.org
DTSTART:20261013T220000Z
DTEND:20261014T000000Z
CLASS:PUBLIC
CREATED:20260419T233023
DESCRIPTION:
LAST-MODIFIED:20260419T233023
LOCATION:5001 Fishburg Road\, Huber Heights\, OH 45424
SUMMARY:Tuesday Pickleball
URL;VALUE=URI:https://huberheightsgrace.com/events/tuesday-pickleball/2026-
 10-13
ATTACH;FILENAME=Pickleball-Monday-%26-Tuesday-%28Presentation%29.png;FMTTYP
 E=image/png:https://dq5pwpg1q8ru0.cloudfront.net/2025/05/26/15/26/21/1fe6d
 ff2-f780-4f5b-aed9-5d0adda0a8b3/Pickleball-Monday-%2526-Tuesday-%2528Prese
 ntation%2529.png
END:VEVENT
END:VCALENDAR
