BEGIN:VCALENDAR
VERSION:2.0
PRODID:icalendar-ruby
CALSCALE:GREGORIAN
METHOD:PUBLISH
BEGIN:VEVENT
DTSTAMP:20260423T095332Z
UID:10-499721@hhgcc.org
DTSTART:20260927T141500Z
DTEND:20260927T153000Z
CLASS:PUBLIC
CREATED:20260422T224010
DESCRIPTION:Gather with us as we sing songs of praise together\, pray toget
 her\, and listen to a message from the Word of God together. \nIf you hav
 e never joined us before and are unsure of what to expect check out our Pl
 an A Visit page for all the information you need!
LAST-MODIFIED:20260422T224010
LOCATION:5001 Fishburg Road\, Huber Heights\, OH 45424
SUMMARY:Sunday Service
URL;VALUE=URI:https://huberheightsgrace.com/events/sunday-service/2026-09-2
 7
ATTACH;FILENAME=PXL_20250223_152811641.jpg;FMTTYPE=image/jpeg:https://dq5pw
 pg1q8ru0.cloudfront.net/2025/03/22/16/01/55/22b6abf8-a54a-4285-a7d2-895143
 28fea2/PXL_20250223_152811641.jpg
END:VEVENT
END:VCALENDAR
