BEGIN:VCALENDAR
VERSION:2.0
PRODID:icalendar-ruby
CALSCALE:GREGORIAN
METHOD:PUBLISH
BEGIN:VEVENT
DTSTAMP:20260421T130940Z
UID:10-494923@hhgcc.org
DTSTART:20260809T141500Z
DTEND:20260809T153000Z
CLASS:PUBLIC
CREATED:20260421T075557
DESCRIPTION:Gather with us as we sing songs of praise together\, pray toget
 her\, and listen to a message from the Word of God together. \nIf you hav
 e never joined us before and are unsure of what to expect check out our Pl
 an A Visit page for all the information you need!
LAST-MODIFIED:20260421T075557
LOCATION:5001 Fishburg Road\, Huber Heights\, OH 45424
SUMMARY:Sunday Service
URL;VALUE=URI:https://huberheightsgrace.com/events/sunday-service/2026-08-0
 9
ATTACH;FILENAME=PXL_20250223_152811641.jpg;FMTTYPE=image/jpeg:https://dq5pw
 pg1q8ru0.cloudfront.net/2025/03/22/16/01/55/22b6abf8-a54a-4285-a7d2-895143
 28fea2/PXL_20250223_152811641.jpg
END:VEVENT
END:VCALENDAR
