BEGIN:VCALENDAR
VERSION:2.0
PRODID:icalendar-ruby
CALSCALE:GREGORIAN
METHOD:PUBLISH
BEGIN:VEVENT
DTSTAMP:20260422T011631Z
UID:11-497141@hhgcc.org
DTSTART:20261004T130000Z
DTEND:20261004T140000Z
CLASS:PUBLIC
CREATED:20260421T210409
DESCRIPTION:
LAST-MODIFIED:20260421T210409
LOCATION:5001 Fishburg Road\, Huber Heights\, OH 45424
SUMMARY:Sunday School
URL;VALUE=URI:https://huberheightsgrace.com/events/sunday-school/2026-10-04
END:VEVENT
END:VCALENDAR
