BEGIN:VCALENDAR
VERSION:2.0
PRODID:icalendar-ruby
CALSCALE:GREGORIAN
METHOD:PUBLISH
BEGIN:VEVENT
DTSTAMP:20260421T235757Z
UID:11-496705@hhgcc.org
DTSTART:20260927T130000Z
DTEND:20260927T140000Z
CLASS:PUBLIC
CREATED:20260421T182523
DESCRIPTION:
LAST-MODIFIED:20260421T182523
LOCATION:5001 Fishburg Road\, Huber Heights\, OH 45424
SUMMARY:Sunday School
URL;VALUE=URI:https://huberheightsgrace.com/events/sunday-school/2026-09-27
END:VEVENT
END:VCALENDAR
