BEGIN:VCALENDAR
VERSION:2.0
PRODID:icalendar-ruby
CALSCALE:GREGORIAN
METHOD:PUBLISH
BEGIN:VEVENT
DTSTAMP:20260421T211159Z
UID:11-496268@hhgcc.org
DTSTART:20260913T130000Z
DTEND:20260913T140000Z
CLASS:PUBLIC
CREATED:20260421T154723
DESCRIPTION:
LAST-MODIFIED:20260421T154723
LOCATION:5001 Fishburg Road\, Huber Heights\, OH 45424
SUMMARY:Sunday School
URL;VALUE=URI:https://huberheightsgrace.com/events/sunday-school/2026-09-13
END:VEVENT
END:VCALENDAR
