BEGIN:VCALENDAR
VERSION:2.0
PRODID:icalendar-ruby
CALSCALE:GREGORIAN
METHOD:PUBLISH
BEGIN:VEVENT
DTSTAMP:20260421T195246Z
UID:11-496267@hhgcc.org
DTSTART:20260906T130000Z
DTEND:20260906T140000Z
CLASS:PUBLIC
CREATED:20260421T154723
DESCRIPTION:
LAST-MODIFIED:20260421T154723
LOCATION:5001 Fishburg Road\, Huber Heights\, OH 45424
SUMMARY:Sunday School
URL;VALUE=URI:https://huberheightsgrace.com/events/sunday-school/2026-09-06
END:VEVENT
END:VCALENDAR
