BEGIN:VCALENDAR
VERSION:2.0
PRODID:icalendar-ruby
CALSCALE:GREGORIAN
METHOD:PUBLISH
BEGIN:VEVENT
DTSTAMP:20260421T171617Z
UID:11-495830@hhgcc.org
DTSTART:20260823T130000Z
DTEND:20260823T140000Z
CLASS:PUBLIC
CREATED:20260421T131103
DESCRIPTION:
LAST-MODIFIED:20260421T131103
LOCATION:5001 Fishburg Road\, Huber Heights\, OH 45424
SUMMARY:Sunday School
URL;VALUE=URI:https://huberheightsgrace.com/events/sunday-school/2026-08-23
END:VEVENT
END:VCALENDAR
