BEGIN:VCALENDAR
VERSION:2.0
PRODID:icalendar-ruby
CALSCALE:GREGORIAN
METHOD:PUBLISH
BEGIN:VEVENT
DTSTAMP:20260421T132358Z
UID:11-494957@hhgcc.org
DTSTART:20260802T130000Z
DTEND:20260802T140000Z
CLASS:PUBLIC
CREATED:20260421T075558
DESCRIPTION:
LAST-MODIFIED:20260421T075558
LOCATION:5001 Fishburg Road\, Huber Heights\, OH 45424
SUMMARY:Sunday School
URL;VALUE=URI:https://huberheightsgrace.com/events/sunday-school/2026-08-02
END:VEVENT
END:VCALENDAR
