BEGIN:VCALENDAR
VERSION:2.0
PRODID:icalendar-ruby
CALSCALE:GREGORIAN
METHOD:PUBLISH
BEGIN:VEVENT
DTSTAMP:20260420T055158Z
UID:25-491772@hhgcc.org
DTSTART:20261010T140000Z
DTEND:20261010T180000Z
CLASS:PUBLIC
CREATED:20260419T233023
DESCRIPTION:
LAST-MODIFIED:20260419T233023
LOCATION:5001 Fishburg Road\, Huber Heights\, OH 45424
SUMMARY:Saturday Volleyball
URL;VALUE=URI:https://huberheightsgrace.com/events/saturday-volleyball/2026
 -10-10
ATTACH;FILENAME=Friday-Saturday-Volleyball-%28Presentation%29.png;FMTTYPE=i
 mage/png:https://dq5pwpg1q8ru0.cloudfront.net/2025/05/26/15/21/51/b3f678af
 -f726-4cb9-85b1-d3fb9ff578d5/Friday-Saturday-Volleyball-%2528Presentation%
 2529.png
END:VEVENT
END:VCALENDAR
