BEGIN:VCALENDAR
VERSION:2.0
PRODID:icalendar-ruby
CALSCALE:GREGORIAN
METHOD:PUBLISH
BEGIN:VEVENT
DTSTAMP:20260419T180751Z
UID:13-490259@hhgcc.org
DTSTART:20260824T220000Z
DTEND:20260825T000000Z
CLASS:PUBLIC
CREATED:20260419T122737
DESCRIPTION:
LAST-MODIFIED:20260419T122737
LOCATION:5001 Fishburg Road\, Huber Heights\, OH 45424
SUMMARY:Monday Pickleball
URL;VALUE=URI:https://huberheightsgrace.com/events/monday-pickleball/2026-0
 8-24
ATTACH;FILENAME=Pickleball-Monday-%26-Tuesday-%28Presentation%29.png;FMTTYP
 E=image/png:https://dq5pwpg1q8ru0.cloudfront.net/2025/03/22/17/26/28/5613f
 b71-c659-4104-8969-8b9a37e65c24/Pickleball-Monday-%2526-Tuesday-%2528Prese
 ntation%2529.png
END:VEVENT
END:VCALENDAR
